BEGIN:VCALENDAR
VERSION:2.0
PRODID:-//NC Coalition to End Homelessness - ECPv6.15.20//NONSGML v1.0//EN
CALSCALE:GREGORIAN
METHOD:PUBLISH
X-ORIGINAL-URL:https://ncceh.org
X-WR-CALDESC:Events for NC Coalition to End Homelessness
REFRESH-INTERVAL;VALUE=DURATION:PT1H
X-Robots-Tag:noindex
X-PUBLISHED-TTL:PT1H
BEGIN:VTIMEZONE
TZID:America/New_York
BEGIN:DAYLIGHT
TZOFFSETFROM:-0500
TZOFFSETTO:-0400
TZNAME:EDT
DTSTART:20240310T070000
END:DAYLIGHT
BEGIN:STANDARD
TZOFFSETFROM:-0400
TZOFFSETTO:-0500
TZNAME:EST
DTSTART:20241103T060000
END:STANDARD
BEGIN:DAYLIGHT
TZOFFSETFROM:-0500
TZOFFSETTO:-0400
TZNAME:EDT
DTSTART:20250309T070000
END:DAYLIGHT
BEGIN:STANDARD
TZOFFSETFROM:-0400
TZOFFSETTO:-0500
TZNAME:EST
DTSTART:20251102T060000
END:STANDARD
BEGIN:DAYLIGHT
TZOFFSETFROM:-0500
TZOFFSETTO:-0400
TZNAME:EDT
DTSTART:20260308T070000
END:DAYLIGHT
BEGIN:STANDARD
TZOFFSETFROM:-0400
TZOFFSETTO:-0500
TZNAME:EST
DTSTART:20261101T060000
END:STANDARD
END:VTIMEZONE
BEGIN:VEVENT
DTSTART;TZID=America/New_York:20250507T100000
DTEND;TZID=America/New_York:20250507T110000
DTSTAMP:20260421T083411
CREATED:20250326T195416Z
LAST-MODIFIED:20250326T195416Z
UID:72372-1746612000-1746615600@ncceh.org
SUMMARY:HMIS System Updates Meeting
DESCRIPTION:Description\n\nStay up to date with HMIS@NCCEH through this monthly meeting. Changes to our system\, HUD’s data standards\, and upcoming deadlines will be reviewed! This is also a great place for Agency Administrators\, Program Managers\, or Supervisors to bring your agency’s questions\, concerns\, and feedback about HMIS. \nAgencies are expected to have at least one representative attend. Any HMIS@NCCEH User is welcome! \n\nJoin the meeting! \nNC Coalition to End Homelessness is inviting you to a scheduled Zoom meeting. \nTopic: HMIS System Updates Meeting\nTime: May 7\, 2025 10:00 AM Eastern Time (US and Canada)\nEvery month on the First Wed\, 36 occurrence(s)\nPlease download and import the following iCalendar (.ics) files to your calendar system.\nMonthly: https://us06web.zoom.us/meeting/tZAsc-usrzoqHNHJHeZsoL_5brlTd9JMbaUS/ics?icsToken=DGlam0v8YfQsTM47XgAALAAAAH0Yg2-irZriBeZlx3LH8jYnDexgsR4E1BdqVbdYaSJ2FexCgY3sN4YeN6jOy5O-DrEYB9KBesghud28VDAwMDAwMQ&meetingMasterEventId=epzQnCO9Q52hcNOwGLF8Ow \n\nJoin Zoom Meeting\nhttps://us06web.zoom.us/j/84142411065?pwd=PictQv9PWBIkyFRbvrboHYaTavbWT2.1 \nMeeting ID: 841 4241 1065\nPasscode: 934633 \n\nOne tap mobile\n+13126266799\,\,84142411065#\,\,\,\,*934633# US (Chicago)\n+16465588656\,\,84142411065#\,\,\,\,*934633# US (New York) \n\nDial by your location\n• +1 312 626 6799\nMeeting ID: 841 4241 1065\nPasscode: 934633
URL:https://ncceh.org/event/hmis-system-updates-meeting-2/
CATEGORIES:HMIS Event
ATTACH;FMTTYPE=image/jpeg:https://ncceh.org/wp-content/uploads/2025/01/HMIS-Event-featured.jpg
END:VEVENT
BEGIN:VEVENT
DTSTART;TZID=America/New_York:20250513T100000
DTEND;TZID=America/New_York:20250513T110000
DTSTAMP:20260421T083411
CREATED:20250424T195101Z
LAST-MODIFIED:20250424T195108Z
UID:72460-1747130400-1747134000@ncceh.org
SUMMARY:SOAR Dialogue Call
DESCRIPTION:The SOAR Dialogue Group is a monthly call for SOAR-trained providers and any other interested parties across the state. Each month\, NCCEH moderates calls with SOAR providers to discuss a topic that helps to improve applications and continue to build a strong SOAR community. \n\nhttps://us06web.zoom.us/j/82242603055\nMeeting ID: 822 4260 3055\nOne tap mobile: +1-646-931-3860
URL:https://ncceh.org/event/soar-dialogue-call-may-2025/
LOCATION:SOAR Dialogue Call
CATEGORIES:SOAR Event
ATTACH;FMTTYPE=image/jpeg:https://ncceh.org/wp-content/uploads/2025/01/SOAR-Event-featured.jpg
END:VEVENT
BEGIN:VEVENT
DTSTART;TZID=America/New_York:20250521T100000
DTEND;TZID=America/New_York:20250521T110000
DTSTAMP:20260421T083411
CREATED:20250502T180303Z
LAST-MODIFIED:20250502T180303Z
UID:72510-1747821600-1747825200@ncceh.org
SUMMARY:HMIS Monthly Training - Agency Admin Roles & Responsibilities
DESCRIPTION:Description\n\nAgency Admins should be familiar with their expectations and responsibilities working within the HMIS system. \nIn this meeting\, we will review: \n\nWhat it means to be the Point of Contact\nLicense Requests/Inactivations\nPrivacy & Security within your Agency\nData Quality Responsibilities\n\n\nJoin the meeting! \nTopic: HMIS Monthly Training – Agency Admin Roles and Responsibilities\nTime: May 21\, 2025 10:00 AM Eastern Time (US and Canada)\nEvery month on the Third Wed\, 36 occurrence(s)\nPlease download and import the following iCalendar (.ics) files to your calendar system.\nMonthly: https://us06web.zoom.us/meeting/tZEsdumqrTwuHtCdraW0CKkAH1yzNG3utOQ-/ics?icsToken=DFbM1eLm2VMuERYqEAAALAAAAI-wbAn6WRrqNOKrMgpCh1xNQWCi7jW8P96cES7x5wCiES01TRweHqwuiZzTFX7Kg0XgbYgs1_oGlPBxWjAwMDAwMQ&meetingMasterEventId=H8YyG4ZoTa694PBh2Fs8Cw\nJoin Zoom Meeting\nhttps://us06web.zoom.us/j/85110237444?pwd=oXPXJlQzG4tBVsW9mEHiXbednPBN9c.1 \nMeeting ID: 851 1023 7444\nPasscode: 799773 \n\nOne tap mobile\n+13017158592\,\,85110237444#\,\,\,\,*799773# US \n\nDial by your location\n• +1 301 715 8592 US\nMeeting ID: 851 1023 7444\nPasscode: 799773 \nFind your local number: https://us06web.zoom.us/u/kcKU6wi9ha
URL:https://ncceh.org/event/hmis-monthly-training-agency-admin-roles-responsibilities/
CATEGORIES:HMIS Event
ATTACH;FMTTYPE=image/jpeg:https://ncceh.org/wp-content/uploads/2025/01/HMIS-Event-featured.jpg
END:VEVENT
END:VCALENDAR