BEGIN:VCALENDAR
VERSION:2.0
PRODID:-//NC Coalition to End Homelessness - ECPv6.15.20//NONSGML v1.0//EN
CALSCALE:GREGORIAN
METHOD:PUBLISH
X-ORIGINAL-URL:https://ncceh.org
X-WR-CALDESC:Events for NC Coalition to End Homelessness
REFRESH-INTERVAL;VALUE=DURATION:PT1H
X-Robots-Tag:noindex
X-PUBLISHED-TTL:PT1H
BEGIN:VTIMEZONE
TZID:America/New_York
BEGIN:DAYLIGHT
TZOFFSETFROM:-0500
TZOFFSETTO:-0400
TZNAME:EDT
DTSTART:20250309T070000
END:DAYLIGHT
BEGIN:STANDARD
TZOFFSETFROM:-0400
TZOFFSETTO:-0500
TZNAME:EST
DTSTART:20251102T060000
END:STANDARD
BEGIN:DAYLIGHT
TZOFFSETFROM:-0500
TZOFFSETTO:-0400
TZNAME:EDT
DTSTART:20260308T070000
END:DAYLIGHT
BEGIN:STANDARD
TZOFFSETFROM:-0400
TZOFFSETTO:-0500
TZNAME:EST
DTSTART:20261101T060000
END:STANDARD
BEGIN:DAYLIGHT
TZOFFSETFROM:-0500
TZOFFSETTO:-0400
TZNAME:EDT
DTSTART:20270314T070000
END:DAYLIGHT
BEGIN:STANDARD
TZOFFSETFROM:-0400
TZOFFSETTO:-0500
TZNAME:EST
DTSTART:20271107T060000
END:STANDARD
END:VTIMEZONE
BEGIN:VEVENT
DTSTART;TZID=America/New_York:20260511T100000
DTEND;TZID=America/New_York:20260511T113000
DTSTAMP:20260425T095352
CREATED:20260422T170835Z
LAST-MODIFIED:20260422T183217Z
UID:74191-1778493600-1778499000@ncceh.org
SUMMARY:FY2026 CoC Competition: New Applicant Pre-Competition Webinar
DESCRIPTION:This webinar is designed for eligible applicants who are interested in applying for a new project in the FY2026 CoC Program Competition. We invite you to attend whether or not you have previously engaged with the NC Balance of State Continuum of Care—however\, you must be located within our 79-county coverage area to apply in our local CoC Program competition. \nNCCEH staff will share information about how to construct a good application\, how to uphold grantee responsibilities\, and anticipated components of the FY2026 CoC Program Competition. We will also provide an overview of our local competition process. Specific guidance and application requirements are subject to change after the release of the FY2026 Notice of Funding Opportunity (NOFO) in the coming months. NCCEH will keep interested applicants up to date with changes. \nClick here to join. 
URL:https://ncceh.org/event/fy2026-coc-competition-new-applicant-pre-competition-webinar/
LOCATION:Zoom Call
CATEGORIES:NC BoS CoC,Training & Webinar
ATTACH;FMTTYPE=image/jpeg:https://ncceh.org/wp-content/uploads/2025/01/Training-Webinar-featured.jpg
END:VEVENT
END:VCALENDAR