BEGIN:VCALENDAR
VERSION:2.0
PRODID:-//NC Coalition to End Homelessness - ECPv6.15.20//NONSGML v1.0//EN
CALSCALE:GREGORIAN
METHOD:PUBLISH
X-WR-CALNAME:NC Coalition to End Homelessness
X-ORIGINAL-URL:https://ncceh.org
X-WR-CALDESC:Events for NC Coalition to End Homelessness
REFRESH-INTERVAL;VALUE=DURATION:PT1H
X-Robots-Tag:noindex
X-PUBLISHED-TTL:PT1H
BEGIN:VTIMEZONE
TZID:America/New_York
BEGIN:DAYLIGHT
TZOFFSETFROM:-0500
TZOFFSETTO:-0400
TZNAME:EDT
DTSTART:20250309T070000
END:DAYLIGHT
BEGIN:STANDARD
TZOFFSETFROM:-0400
TZOFFSETTO:-0500
TZNAME:EST
DTSTART:20251102T060000
END:STANDARD
BEGIN:DAYLIGHT
TZOFFSETFROM:-0500
TZOFFSETTO:-0400
TZNAME:EDT
DTSTART:20260308T070000
END:DAYLIGHT
BEGIN:STANDARD
TZOFFSETFROM:-0400
TZOFFSETTO:-0500
TZNAME:EST
DTSTART:20261101T060000
END:STANDARD
BEGIN:DAYLIGHT
TZOFFSETFROM:-0500
TZOFFSETTO:-0400
TZNAME:EDT
DTSTART:20270314T070000
END:DAYLIGHT
BEGIN:STANDARD
TZOFFSETFROM:-0400
TZOFFSETTO:-0500
TZNAME:EST
DTSTART:20271107T060000
END:STANDARD
END:VTIMEZONE
BEGIN:VEVENT
DTSTART;TZID=America/New_York:20260423T140000
DTEND;TZID=America/New_York:20260423T150000
DTSTAMP:20260423T011748
CREATED:20260306T174338Z
LAST-MODIFIED:20260407T160631Z
UID:74052-1776952800-1776956400@ncceh.org
SUMMARY:The State of Fair Housing
DESCRIPTION:Join NCCEH for free monthly workshops designed for homeless services and housing providers in North Carolina. Each training will feature subject matter experts from across the state and offer practical takeaways for organizations navigating the challenges and opportunities of 2026. Each month’s session will occur virtually via Zoom from 2-3 PM. \nIn this interactive presentation\, staff from Legal Aid of NC’s Fair Housing Project will provide an overview of Fair Housing laws\, updates on recent policy shifts\, and impacts on housing and services providers. There will be an opportunity for Q&A\, and attendees are welcome to submit questions in advance. This workshop is free and open to all North Carolina organizations and stakeholders. \nPlease register here: https://lnkd.in/eQAjKeKW
URL:https://ncceh.org/event/the-state-of-fair-housing/
LOCATION:Zoom Call
CATEGORIES:2026 Workshop Series
ATTACH;FMTTYPE=image/png:https://ncceh.org/wp-content/uploads/2026/03/2026-Workshop-Series-Event-Banner.png
END:VEVENT
END:VCALENDAR