BEGIN:VCALENDAR
VERSION:2.0
PRODID:-//NC Coalition to End Homelessness - ECPv6.15.20//NONSGML v1.0//EN
CALSCALE:GREGORIAN
METHOD:PUBLISH
X-ORIGINAL-URL:https://ncceh.org
X-WR-CALDESC:Events for NC Coalition to End Homelessness
REFRESH-INTERVAL;VALUE=DURATION:PT1H
X-Robots-Tag:noindex
X-PUBLISHED-TTL:PT1H
BEGIN:VTIMEZONE
TZID:America/New_York
BEGIN:DAYLIGHT
TZOFFSETFROM:-0500
TZOFFSETTO:-0400
TZNAME:EDT
DTSTART:20240310T070000
END:DAYLIGHT
BEGIN:STANDARD
TZOFFSETFROM:-0400
TZOFFSETTO:-0500
TZNAME:EST
DTSTART:20241103T060000
END:STANDARD
BEGIN:DAYLIGHT
TZOFFSETFROM:-0500
TZOFFSETTO:-0400
TZNAME:EDT
DTSTART:20250309T070000
END:DAYLIGHT
BEGIN:STANDARD
TZOFFSETFROM:-0400
TZOFFSETTO:-0500
TZNAME:EST
DTSTART:20251102T060000
END:STANDARD
BEGIN:DAYLIGHT
TZOFFSETFROM:-0500
TZOFFSETTO:-0400
TZNAME:EDT
DTSTART:20260308T070000
END:DAYLIGHT
BEGIN:STANDARD
TZOFFSETFROM:-0400
TZOFFSETTO:-0500
TZNAME:EST
DTSTART:20261101T060000
END:STANDARD
END:VTIMEZONE
BEGIN:VEVENT
DTSTART;TZID=America/New_York:20250416T100000
DTEND;TZID=America/New_York:20250416T110000
DTSTAMP:20260425T185151
CREATED:20250401T202119Z
LAST-MODIFIED:20250401T202119Z
UID:72374-1744797600-1744801200@ncceh.org
SUMMARY:HMIS Monthly Training - Clients Count Report
DESCRIPTION:Description\n\nThe Client Counts Report is a Home Page Dashboard Report. \nIn this meeting\, we will review: \n\nReport Name Selections\nAvailable Filters\nHow to best utilize this report for your needs\n\n\nJoin the meeting! \nTopic: HMIS Monthly Training – Client Counts Report\nTime: April 16\, 2025 10:00 AM Eastern Time (US and Canada)\nEvery month on the Third Wed\, 36 occurrence(s)\nPlease download and import the following iCalendar (.ics) files to your calendar system.\nMonthly: https://us06web.zoom.us/meeting/tZEsdumqrTwuHtCdraW0CKkAH1yzNG3utOQ-/ics?icsToken=DFbM1eLm2VMuERYqEAAALAAAAI-wbAn6WRrqNOKrMgpCh1xNQWCi7jW8P96cES7x5wCiES01TRweHqwuiZzTFX7Kg0XgbYgs1_oGlPBxWjAwMDAwMQ&meetingMasterEventId=H8YyG4ZoTa694PBh2Fs8Cw\nJoin Zoom Meeting\nhttps://us06web.zoom.us/j/85110237444?pwd=oXPXJlQzG4tBVsW9mEHiXbednPBN9c.1 \nMeeting ID: 851 1023 7444\nPasscode: 799773 \n\nOne tap mobile\n+13017158592\,\,85110237444#\,\,\,\,*799773# US \n\nDial by your location\n• +1 301 715 8592 US\nMeeting ID: 851 1023 7444\nPasscode: 799773 \nFind your local number: https://us06web.zoom.us/u/kcKU6wi9ha
URL:https://ncceh.org/event/hmis-monthly-training-clients-count-report/
CATEGORIES:HMIS Event,NC BoS CoC
ATTACH;FMTTYPE=image/jpeg:https://ncceh.org/wp-content/uploads/2025/01/HMIS-Event-featured.jpg
END:VEVENT
END:VCALENDAR